BEGIN:VCALENDAR
VERSION:2.0
PRODID:-//Byens Hus Mørke - ECPv6.15.11//NONSGML v1.0//EN
CALSCALE:GREGORIAN
METHOD:PUBLISH
X-WR-CALNAME:Byens Hus Mørke
X-ORIGINAL-URL:https://8544moerke.dk
X-WR-CALDESC:Begivenheder for Byens Hus Mørke
REFRESH-INTERVAL;VALUE=DURATION:PT1H
X-Robots-Tag:noindex
X-PUBLISHED-TTL:PT1H
BEGIN:VTIMEZONE
TZID:Europe/Copenhagen
BEGIN:DAYLIGHT
TZOFFSETFROM:+0100
TZOFFSETTO:+0200
TZNAME:CEST
DTSTART:20240331T010000
END:DAYLIGHT
BEGIN:STANDARD
TZOFFSETFROM:+0200
TZOFFSETTO:+0100
TZNAME:CET
DTSTART:20241027T010000
END:STANDARD
BEGIN:DAYLIGHT
TZOFFSETFROM:+0100
TZOFFSETTO:+0200
TZNAME:CEST
DTSTART:20250330T010000
END:DAYLIGHT
BEGIN:STANDARD
TZOFFSETFROM:+0200
TZOFFSETTO:+0100
TZNAME:CET
DTSTART:20251026T010000
END:STANDARD
BEGIN:DAYLIGHT
TZOFFSETFROM:+0100
TZOFFSETTO:+0200
TZNAME:CEST
DTSTART:20260329T010000
END:DAYLIGHT
BEGIN:STANDARD
TZOFFSETFROM:+0200
TZOFFSETTO:+0100
TZNAME:CET
DTSTART:20261025T010000
END:STANDARD
END:VTIMEZONE
BEGIN:VEVENT
DTSTART;TZID=Europe/Copenhagen:20250923T100000
DTEND;TZID=Europe/Copenhagen:20250923T113000
DTSTAMP:20260420T130119
CREATED:20250910T125353Z
LAST-MODIFIED:20250910T125410Z
UID:5114-1758621600-1758627000@8544moerke.dk
SUMMARY:FOF - YOGA
DESCRIPTION:FOF Yoga hold \nMere info hos FOF 
URL:https://8544moerke.dk/event/fof-yoga-2/
LOCATION:Multisalen – Byens Hus\, Ebeltoftvej 7 st\, Mørke\, 8544
CATEGORIES:Privat arrangement
ATTACH;FMTTYPE=image/jpeg:https://8544moerke.dk/wp-content/uploads/2025/09/yoga-1.jpg
END:VEVENT
BEGIN:VEVENT
DTSTART;TZID=Europe/Copenhagen:20250923T183000
DTEND;TZID=Europe/Copenhagen:20250923T210000
DTSTAMP:20260420T130119
CREATED:20250708T162318Z
LAST-MODIFIED:20250708T162318Z
UID:5023-1758652200-1758661200@8544moerke.dk
SUMMARY:Foredrag i Naturvidenskab - Styrk dit tarmmikrobiom og hold dig rask
DESCRIPTION:Oplev videnskabelige foredrag streamet live fra Aarhus Universitet til Byens Hus i Mørke.\nDer er gratis adgang \, godt selskab og vi serverer varme og kolde drikke til meget venlige priser. \n\n\n\n\nForeddraget er med Oluf Borbye Pedersen\, professor i molekylær metabolisme og mikrobiomforskning\, Københavns Universitet. \n\n\n\n\nBliv klogere på hvordan bakterier\, virus og svampe der lever i din tarm\, påvirker alle kroppens organer på godt og ondt\, og hvordan du med dit valg af livsstil selv bestemmer om de arbejder for at fremme dit helbred eller nedbryde det. \nForedraget starter præcis kl 19.00. \nVi har allerede åbent kl 18.45 . \n 
URL:https://8544moerke.dk/event/foredrag-i-naturvidenskab-styrk-dit-tarmmikrobiom-og-hold-dig-rask/
LOCATION:Multisalen – Byens Hus\, Ebeltoftvej 7 st\, Mørke\, 8544
CATEGORIES:Åbent arrangement
ATTACH;FMTTYPE=image/jpeg:https://8544moerke.dk/wp-content/uploads/2025/07/Styrk-dit-tarmmikrobiom-og-hold-did-rask_FBcover.jpg
ORGANIZER;CN="Byens Hus":MAILTO:byenshus@8544moerke.dk
END:VEVENT
END:VCALENDAR